BEGIN:VCALENDAR
VERSION:2.0
PRODID:-//Comedy Station Comedy Club - ECPv6.15.20//NONSGML v1.0//EN
CALSCALE:GREGORIAN
METHOD:PUBLISH
X-WR-CALNAME:Comedy Station Comedy Club
X-ORIGINAL-URL:https://blackpoolcomedyclub.com
X-WR-CALDESC:Events for Comedy Station Comedy Club
REFRESH-INTERVAL;VALUE=DURATION:PT1H
X-Robots-Tag:noindex
X-PUBLISHED-TTL:PT1H
BEGIN:VTIMEZONE
TZID:Europe/London
BEGIN:DAYLIGHT
TZOFFSETFROM:+0000
TZOFFSETTO:+0100
TZNAME:BST
DTSTART:20250330T010000
END:DAYLIGHT
BEGIN:STANDARD
TZOFFSETFROM:+0100
TZOFFSETTO:+0000
TZNAME:GMT
DTSTART:20251026T010000
END:STANDARD
BEGIN:DAYLIGHT
TZOFFSETFROM:+0000
TZOFFSETTO:+0100
TZNAME:BST
DTSTART:20260329T010000
END:DAYLIGHT
BEGIN:STANDARD
TZOFFSETFROM:+0100
TZOFFSETTO:+0000
TZNAME:GMT
DTSTART:20261025T010000
END:STANDARD
BEGIN:DAYLIGHT
TZOFFSETFROM:+0000
TZOFFSETTO:+0100
TZNAME:BST
DTSTART:20270328T010000
END:DAYLIGHT
BEGIN:STANDARD
TZOFFSETFROM:+0100
TZOFFSETTO:+0000
TZNAME:GMT
DTSTART:20271031T010000
END:STANDARD
END:VTIMEZONE
BEGIN:VEVENT
DTSTART;TZID=Europe/London:20260508T190000
DTEND;TZID=Europe/London:20260508T224500
DTSTAMP:20260420T132341
CREATED:20260325T181749Z
LAST-MODIFIED:20260325T181749Z
UID:77060-1778266800-1778280300@blackpoolcomedyclub.com
SUMMARY:Friday Night Laughs with Glenn Wool\, Oliver Bowler\, Jon Wagstaffe & Ryan Gleeson
DESCRIPTION:Stand up comedy\, hosted by Ryan Gleeson with three comedians from the biggest pods and funniest tellybox shows including Never Mind the Buzzcocks\, 8 Out of 10 Cats Does Countdown\, Live at the Apollo and more! \nThis is what makes us Blackpool’s funniest night out \n  \nDoors 7pm – Show 8pm
URL:https://blackpoolcomedyclub.com/event/friday-night-laughs-with-glenn-wool-oliver-bowler-jon-wagstaffe-ryan-gleeson/
LOCATION:Comedy Station Comedy Club\, Blackpool\, Comedy Station Comedy Club\, Bank Hey Street\, Blackpool\, Lancashire\, FY1 4RU\, United Kingdom
CATEGORIES:Friday Shows,Glenn Wool,Jon Wagstaffe,may,Oliver Bowler,Upcoming
ATTACH;FMTTYPE=image/png:https://blackpoolcomedyclub.com/wp-content/uploads/2026/01/Untitled.png
END:VEVENT
BEGIN:VEVENT
DTSTART;TZID=Europe/London:20260509T190000
DTEND;TZID=Europe/London:20260509T224500
DTSTAMP:20260420T132341
CREATED:20260325T181806Z
LAST-MODIFIED:20260325T181806Z
UID:77065-1778353200-1778366700@blackpoolcomedyclub.com
SUMMARY:Saturday Live! with Glenn Wool\, Jon Wagstaffe\, Oliver Bowler & Ryan Gleeson
DESCRIPTION:Stand up comedy\, hosted by Ryan Gleeson with three comedians from the biggest pods and funniest tellybox shows including Never Mind the Buzzcocks\, 8 Out of 10 Cats Does Countdown\, Live at the Apollo and more! \nThis is what makes us Blackpool’s funniest night out \n  \nDoors 7pm – Show 8pm
URL:https://blackpoolcomedyclub.com/event/saturday-live-with-glenn-wool-jon-wagstaffe-oliver-bowler-ryan-gleeson/
LOCATION:Comedy Station Comedy Club\, Blackpool\, Comedy Station Comedy Club\, Bank Hey Street\, Blackpool\, Lancashire\, FY1 4RU\, United Kingdom
CATEGORIES:Glenn Wool,Jon Wagstaffe,may,Oliver Bowler,Saturday Shows,Upcoming
ATTACH;FMTTYPE=image/png:https://blackpoolcomedyclub.com/wp-content/uploads/2026/01/Untitled-1.png
END:VEVENT
END:VCALENDAR