BEGIN:VCALENDAR
VERSION:2.0
PRODID:-//Comedy Station Comedy Club - ECPv6.15.20//NONSGML v1.0//EN
CALSCALE:GREGORIAN
METHOD:PUBLISH
X-ORIGINAL-URL:https://blackpoolcomedyclub.com
X-WR-CALDESC:Events for Comedy Station Comedy Club
REFRESH-INTERVAL;VALUE=DURATION:PT1H
X-Robots-Tag:noindex
X-PUBLISHED-TTL:PT1H
BEGIN:VTIMEZONE
TZID:Europe/London
BEGIN:DAYLIGHT
TZOFFSETFROM:+0000
TZOFFSETTO:+0100
TZNAME:BST
DTSTART:20250330T010000
END:DAYLIGHT
BEGIN:STANDARD
TZOFFSETFROM:+0100
TZOFFSETTO:+0000
TZNAME:GMT
DTSTART:20251026T010000
END:STANDARD
BEGIN:DAYLIGHT
TZOFFSETFROM:+0000
TZOFFSETTO:+0100
TZNAME:BST
DTSTART:20260329T010000
END:DAYLIGHT
BEGIN:STANDARD
TZOFFSETFROM:+0100
TZOFFSETTO:+0000
TZNAME:GMT
DTSTART:20261025T010000
END:STANDARD
BEGIN:DAYLIGHT
TZOFFSETFROM:+0000
TZOFFSETTO:+0100
TZNAME:BST
DTSTART:20270328T010000
END:DAYLIGHT
BEGIN:STANDARD
TZOFFSETFROM:+0100
TZOFFSETTO:+0000
TZNAME:GMT
DTSTART:20271031T010000
END:STANDARD
END:VTIMEZONE
BEGIN:VEVENT
DTSTART;TZID=Europe/London:20260524T130000
DTEND;TZID=Europe/London:20260524T170000
DTSTAMP:20260421T103917
CREATED:20260402T115757Z
LAST-MODIFIED:20260402T115757Z
UID:77406-1779627600-1779642000@blackpoolcomedyclub.com
SUMMARY:An Audience with Mick Miller - Afternoon Show
DESCRIPTION:Sunday 24th May\, 2026 \nAn Audience with Mick Miller\nJoin the bald comedian with the long hair for an afternoon of two halves \nMick Miller is a comedy legend who has been at the top of his game for over 40 years. His workload is as busy now as it has ever been\, he never stops! His deadpan delivery and his unique hairstyle are what people remember\, but he constantly works on his act and is for ever adding new gags and stories to keep it fresh. He can’t leave a venue without performing his set piece\, Noddy routine. The audience just wouldn’t let him! \nIn this show\, Mick performs a full comedy set in the 1st half and is interviewed by comedian and close friend\, Ryan Gleeson. The interview is very funny and informative\, and it’s never the same twice. Ryan is always trying to find out new things and Mick keeps trying to make Ryan laugh. \nDoors 13:00 – Show 14:00
URL:https://blackpoolcomedyclub.com/event/audiencewithmickmillerafternoonmay/
LOCATION:Comedy Station Comedy Club\, Blackpool\, Comedy Station Comedy Club\, Bank Hey Street\, Blackpool\, Lancashire\, FY1 4RU\, United Kingdom
CATEGORIES:may,Touring Shows,Upcoming
ATTACH;FMTTYPE=image/png:https://blackpoolcomedyclub.com/wp-content/uploads/2025/03/IMG_1684.png
END:VEVENT
BEGIN:VEVENT
DTSTART;TZID=Europe/London:20260924T190000
DTEND;TZID=Europe/London:20260924T220000
DTSTAMP:20260421T103917
CREATED:20251128T020104Z
LAST-MODIFIED:20251128T020833Z
UID:74415-1790276400-1790287200@blackpoolcomedyclub.com
SUMMARY:Gary Meikle: Yer Maw - UK Tour
DESCRIPTION:Gary Meikle: Yer Maw\nThurs. 24th Sept. 2026 \nDoors 7pm – Show 8pm  \nAge 16+ (Under 18s must be accompanied by a responsible adult) \n  \nHi guys it’s me\, Gary. \nThese blurbs do my head in if I’m honest\, each year I need to sit and write one out before I even know what stories I’m gonna share\, well I mean I don’t have to  write one I could pay something else to do it but f*** that they’d just write some mundane vague crap which I can clearly do myself.  At least this way you know I’ve written it personally.  So what’s the new show about?  Again\,  I don’t yet\, but it will contain at least one ‘yer maw’ Joke\,  what I do know is that it’ll be another brand new 80-90 minutes of stories\, opinions and observations about me\, and my family as well as you all its always about people and the mad shit we do\, sometimes animals but more often than not it’s about people and the stupid scenarios we end up in.   \nI wonder if that’s now enough wordage to cover the minimum blurb requirement?  \nI guess we’ll see\, and I’ll see you all soon maybe  – oh\, one last thing\, my show isn’t suitable for small people\, some of it might be about them\, in fact it definitely will but\, yeah they ain’t getting in 🙂
URL:https://blackpoolcomedyclub.com/event/gary-meikle-yer-maw-uk-tour/
LOCATION:Comedy Station Comedy Club\, Blackpool\, Comedy Station Comedy Club\, Bank Hey Street\, Blackpool\, Lancashire\, FY1 4RU\, United Kingdom
CATEGORIES:All Events,Available Tours,Gary Meikle,september,Touring Shows,Upcoming
ATTACH;FMTTYPE=image/jpeg:https://blackpoolcomedyclub.com/wp-content/uploads/2025/11/IMG_2953.jpeg
END:VEVENT
END:VCALENDAR